BEGIN:VCALENDAR
VERSION:2.0
PRODID:spatie/icalendar-generator
DESCRIPTION:Events from 3M Club of St. Paul
X-WR-CALDESC:Events from 3M Club of St. Paul
REFRESH-INTERVAL;VALUE=DURATION:PT1440M
X-PUBLISHED-TTL:PT1440M
BEGIN:VTIMEZONE
TZID:Etc/GMT+0
BEGIN:STANDARD
DTSTART:20250619T190000Z
TZOFFSETFROM:+0000
TZOFFSETTO:+0000
END:STANDARD
END:VTIMEZONE
BEGIN:VTIMEZONE
TZID:UTC
BEGIN:STANDARD
DTSTART:20250728T001206Z
TZOFFSETFROM:+0000
TZOFFSETTO:+0000
END:STANDARD
END:VTIMEZONE
BEGIN:VEVENT
UID:104-42
DTSTAMP:20260424T001206Z
SUMMARY:Basketball League
LOCATION:Concordia University- Gangelhoff Center 225 Hamline Ave N  St Paul
  MN 55104
ORGANIZER;CN=01876041:MAILTO:carbuckle@mmm.com
RRULE:FREQ=WEEKLY;UNTIL=20260331T000000Z
DTSTART;TZID=Etc/GMT+0:20260316T190000
DTEND;TZID=Etc/GMT+0:20260316T210000
X-ALT-DESC;FMTTYPE=TEXT/HTML:
CATEGORIES:Sports Leagues
URL;VALUE=URI:https://stpaul.3mclub.com/mc-events/basketball-league/?mc_id=
 104
METHOD:PUBLISH
END:VEVENT
END:VCALENDAR