BEGIN:VCALENDAR
VERSION:2.0
PRODID:spatie/icalendar-generator
DESCRIPTION:Events from 3M Club of St. Paul
X-WR-CALDESC:Events from 3M Club of St. Paul
REFRESH-INTERVAL;VALUE=DURATION:PT1440M
X-PUBLISHED-TTL:PT1440M
BEGIN:VTIMEZONE
TZID:Etc/GMT+0
BEGIN:STANDARD
DTSTART:20250628T123000Z
TZOFFSETFROM:+0000
TZOFFSETTO:+0000
END:STANDARD
END:VTIMEZONE
BEGIN:VTIMEZONE
TZID:UTC
BEGIN:STANDARD
DTSTART:20250727T173245Z
TZOFFSETFROM:+0000
TZOFFSETTO:+0000
END:STANDARD
END:VTIMEZONE
BEGIN:VEVENT
UID:107-43
DTSTAMP:20260423T173245Z
SUMMARY:Scotty's 1st Birthday
LOCATION:3M Center 222 Commons (near the 224 main entrance)
ORGANIZER;CN=01876054:MAILTO:gfriedlein@mmm.com
DTSTART;TZID=Etc/GMT+0:20260325T123000
DTEND;TZID=Etc/GMT+0:20260325T133000
X-ALT-DESC;FMTTYPE=TEXT/HTML:
CATEGORIES:General
URL;VALUE=URI:https://stpaul.3mclub.com/mc-events/scottys-1st-birthday/
METHOD:PUBLISH
END:VEVENT
END:VCALENDAR