BEGIN:VCALENDAR
VERSION:2.0
PRODID:spatie/icalendar-generator
DESCRIPTION:Events from 3M Club of St. Paul
X-WR-CALDESC:Events from 3M Club of St. Paul
REFRESH-INTERVAL;VALUE=DURATION:PT1440M
X-PUBLISHED-TTL:PT1440M
BEGIN:VTIMEZONE
TZID:Etc/GMT+0
BEGIN:STANDARD
DTSTART:20260315T163000Z
TZOFFSETFROM:+0000
TZOFFSETTO:+0000
END:STANDARD
END:VTIMEZONE
BEGIN:VTIMEZONE
TZID:UTC
BEGIN:STANDARD
DTSTART:20250727T203330Z
TZOFFSETFROM:+0000
TZOFFSETTO:+0000
END:STANDARD
END:VTIMEZONE
BEGIN:VEVENT
UID:110-46
DTSTAMP:20260423T203330Z
SUMMARY:3M Club Children’s Holiday Party
LOCATION:3M Center 224 Commons
ORGANIZER;CN=01876054:MAILTO:gfriedlein@mmm.com
DTSTART;TZID=Etc/GMT+0:20261210T163000
DTEND;TZID=Etc/GMT+0:20261210T183000
X-ALT-DESC;FMTTYPE=TEXT/HTML:Ticket link TBD When: Thursday\, December 10 T
 ime: 4:30-6:30pm Where: 3M Center 224 Commons Cost: 5$ Per Child – Adult
 s no charge *Note* Tickets only need to be purchased for the children atte
 nding
CATEGORIES:3M Club Hosted Events
URL;VALUE=URI:https://stpaul.3mclub.com/mc-events/3m-club-childrens-holiday
 -party/
METHOD:PUBLISH
END:VEVENT
END:VCALENDAR