BEGIN:VCALENDAR
VERSION:2.0
PRODID:spatie/icalendar-generator
DESCRIPTION:Events from 3M Club of St. Paul
X-WR-CALDESC:Events from 3M Club of St. Paul
REFRESH-INTERVAL;VALUE=DURATION:PT1440M
X-PUBLISHED-TTL:PT1440M
BEGIN:VTIMEZONE
TZID:Etc/GMT+0
BEGIN:STANDARD
DTSTART:20240114T173000Z
TZOFFSETFROM:+0000
TZOFFSETTO:+0000
END:STANDARD
END:VTIMEZONE
BEGIN:VTIMEZONE
TZID:UTC
BEGIN:STANDARD
DTSTART:20250728T115734Z
TZOFFSETFROM:+0000
TZOFFSETTO:+0000
END:STANDARD
END:VTIMEZONE
BEGIN:VEVENT
UID:13-13
DTSTAMP:20260424T115734Z
SUMMARY:2024 Beer &amp;amp\; More Tasting
LOCATION:
ORGANIZER;CN=adeditor:MAILTO:adaugherty@mmm.com
DTSTART;TZID=Etc/GMT+0:20241010T173000
DTEND;TZID=Etc/GMT+0:20241010T200000
X-ALT-DESC;FMTTYPE=TEXT/HTML:Another fun event hosted by the 3M Club of St.
  Paul. Event form will be added at a later date. &amp;nbsp\; &amp;nbsp\;
CATEGORIES:3M Club Hosted Events
URL;VALUE=URI:https://stpaul.3mclub.com/mc-events/2024-beer-more-tasting/
METHOD:PUBLISH
END:VEVENT
END:VCALENDAR