BEGIN:VCALENDAR
VERSION:2.0
PRODID:spatie/icalendar-generator
DESCRIPTION:Events from 3M Club of St. Paul
X-WR-CALDESC:Events from 3M Club of St. Paul
REFRESH-INTERVAL;VALUE=DURATION:PT1440M
X-PUBLISHED-TTL:PT1440M
BEGIN:VTIMEZONE
TZID:Etc/GMT+0
BEGIN:STANDARD
DTSTART:20231108T100000Z
TZOFFSETFROM:+0000
TZOFFSETTO:+0000
END:STANDARD
END:VTIMEZONE
BEGIN:VTIMEZONE
TZID:UTC
BEGIN:STANDARD
DTSTART:20250728T151358Z
TZOFFSETFROM:+0000
TZOFFSETTO:+0000
END:STANDARD
END:VTIMEZONE
BEGIN:VEVENT
UID:19-19
DTSTAMP:20260424T151358Z
SUMMARY:3M Club Valleyfair Day
LOCATION:1 Valleyfair Dr\, Shakopee\, MN 55379 1 Valleyfair Drive   Shakope
 e  MN 55379
ORGANIZER;CN=lnjohnson:MAILTO:lnjohnson@mmm.com
DTSTART;TZID=Etc/GMT+0:20240804T100000
DTEND;TZID=Etc/GMT+0:20240804T110000
X-ALT-DESC;FMTTYPE=TEXT/HTML:Join us Sunday\, August 4\, for a day at Valle
 yfair! This will be a great opportunity to join your 3M coworkers for a fu
 ll day of fun in the sun. You will have access to 75 rides and attractions
 \, from roller coasters to swings\, the thrill rides come in all different
  shapes and sizes. Or&amp;hellip\;
CATEGORIES:3M Club Hosted Events
URL;VALUE=URI:https://stpaul.3mclub.com/mc-events/3m-club-valleyfair-day-2/
METHOD:PUBLISH
END:VEVENT
END:VCALENDAR