BEGIN:VCALENDAR
VERSION:2.0
PRODID:spatie/icalendar-generator
DESCRIPTION:Events from 3M Club of St. Paul
X-WR-CALDESC:Events from 3M Club of St. Paul
REFRESH-INTERVAL;VALUE=DURATION:PT1440M
X-PUBLISHED-TTL:PT1440M
BEGIN:VTIMEZONE
TZID:Etc/GMT+0
BEGIN:STANDARD
DTSTART:20240130T180000Z
TZOFFSETFROM:+0000
TZOFFSETTO:+0000
END:STANDARD
END:VTIMEZONE
BEGIN:VTIMEZONE
TZID:UTC
BEGIN:STANDARD
DTSTART:20250728T075708Z
TZOFFSETFROM:+0000
TZOFFSETTO:+0000
END:STANDARD
END:VTIMEZONE
BEGIN:VEVENT
UID:23-24
DTSTAMP:20260424T075708Z
SUMMARY:Minnesota Children's Museum Halloween Party
LOCATION:
ORGANIZER;CN=Kristie:MAILTO:kgraber1@mmm.com
DTSTART;TZID=Etc/GMT+0:20241026T180000
DTEND;TZID=Etc/GMT+0:20241026T210000
X-ALT-DESC;FMTTYPE=TEXT/HTML:
CATEGORIES:3M Club Hosted Events
URL;VALUE=URI:https://stpaul.3mclub.com/mc-events/minnesota-childrens-museu
 m-halloween-party-3/
METHOD:PUBLISH
END:VEVENT
END:VCALENDAR