BEGIN:VCALENDAR
VERSION:2.0
PRODID:spatie/icalendar-generator
DESCRIPTION:Events from 3M Club of St. Paul
X-WR-CALDESC:Events from 3M Club of St. Paul
REFRESH-INTERVAL;VALUE=DURATION:PT1440M
X-PUBLISHED-TTL:PT1440M
BEGIN:VTIMEZONE
TZID:Etc/GMT+0
BEGIN:STANDARD
DTSTART:20240715T120000Z
TZOFFSETFROM:+0000
TZOFFSETTO:+0000
END:STANDARD
END:VTIMEZONE
BEGIN:VTIMEZONE
TZID:UTC
BEGIN:STANDARD
DTSTART:20250728T023327Z
TZOFFSETFROM:+0000
TZOFFSETTO:+0000
END:STANDARD
END:VTIMEZONE
BEGIN:VEVENT
UID:32-31
DTSTAMP:20260424T023327Z
SUMMARY:Brew Day Spring Event
LOCATION:Andy\\'s House  10705 Sterling Alcove  Woodbury MN 55129
ORGANIZER;CN=01183866:MAILTO:ljdardine@mmm.com
DTSTART;TZID=Etc/GMT+0:20250411T120000
DTEND;TZID=Etc/GMT+0:20250411T160000
X-ALT-DESC;FMTTYPE=TEXT/HTML:Spring is finally here\, and along with the ni
 cer weather comes the itch to fire up the brew burner again. We're excited
  to invite you to our upcoming Brew Day event! This is a fantastic opportu
 nity for both seasoned brewers and newcomers to get hands-on experience wi
 th brewing an all-grain recipe on a Brew-in-a-Bag system&amp;hellip\;
CATEGORIES:Activity Clubs
URL;VALUE=URI:https://stpaul.3mclub.com/mc-events/brew-day-spring-event/
METHOD:PUBLISH
END:VEVENT
END:VCALENDAR