BEGIN:VCALENDAR
VERSION:2.0
PRODID:spatie/icalendar-generator
DESCRIPTION:Events from 3M Club of St. Paul
X-WR-CALDESC:Events from 3M Club of St. Paul
REFRESH-INTERVAL;VALUE=DURATION:PT1440M
X-PUBLISHED-TTL:PT1440M
BEGIN:VTIMEZONE
TZID:Etc/GMT+0
BEGIN:STANDARD
DTSTART:20241110T120000Z
TZOFFSETFROM:+0000
TZOFFSETTO:+0000
END:STANDARD
END:VTIMEZONE
BEGIN:VTIMEZONE
TZID:UTC
BEGIN:STANDARD
DTSTART:20250727T232118Z
TZOFFSETFROM:+0000
TZOFFSETTO:+0000
END:STANDARD
END:VTIMEZONE
BEGIN:VEVENT
UID:33-32
DTSTAMP:20260423T232118Z
SUMMARY:August Homebrew Club Meeting
LOCATION:
ORGANIZER;CN=01183866:MAILTO:ljdardine@mmm.com
DTSTART;TZID=Etc/GMT+0:20250807T120000
DTEND;TZID=Etc/GMT+0:20250807T130000
X-ALT-DESC;FMTTYPE=TEXT/HTML:The Have you heard of the new Flash Brewing ki
 ts offered by Morebeer? 10-minute brew days? No way! The club has purchase
 d two flash brewing kits (Cali Mountain Pale Ale and German Hefeweizen) to
  test this radical idea out. For Science! There will be a brewing demonstr
 ation on August 7th in building 280-2-WW201 from 12-1pm.
CATEGORIES:Activity Clubs
URL;VALUE=URI:https://stpaul.3mclub.com/mc-events/august-homebrew-club-meet
 ing/
METHOD:PUBLISH
END:VEVENT
END:VCALENDAR