BEGIN:VCALENDAR
VERSION:2.0
PRODID:spatie/icalendar-generator
DESCRIPTION:Events from 3M Club of St. Paul
X-WR-CALDESC:Events from 3M Club of St. Paul
REFRESH-INTERVAL;VALUE=DURATION:PT1440M
X-PUBLISHED-TTL:PT1440M
BEGIN:VTIMEZONE
TZID:Etc/GMT+0
BEGIN:STANDARD
DTSTART:20241222T173000Z
TZOFFSETFROM:+0000
TZOFFSETTO:+0000
END:STANDARD
END:VTIMEZONE
BEGIN:VTIMEZONE
TZID:UTC
BEGIN:STANDARD
DTSTART:20250727T200648Z
TZOFFSETFROM:+0000
TZOFFSETTO:+0000
END:STANDARD
END:VTIMEZONE
BEGIN:VEVENT
UID:36-34
DTSTAMP:20260423T200648Z
SUMMARY:Beer &amp;amp\; More Tasting
LOCATION:
ORGANIZER;CN=01642282:MAILTO:kwouts@mmm.com
DTSTART;TZID=Etc/GMT+0:20250918T173000
DTEND;TZID=Etc/GMT+0:20250918T203000
X-ALT-DESC;FMTTYPE=TEXT/HTML:🍻 Cheers to 18 Years! 🍻 Join us for the 
 3M Club’s 18th Annual Beer Tasting—our biggest and most flavorful cele
 bration yet! 📅 Date: Thursday\, September 18\, 2025 🕕 Time:5:30pm - 
 8:30pm 📍 Location:Grand Banquet Hall\, 301 2nd St S\, Stillwater\, MN 5
 5082 (entrance on Olive St.) We’re bringing together over 20 amazing ven
 dors featuring&amp;hellip\;
CATEGORIES:3M Club Hosted Events
URL;VALUE=URI:https://stpaul.3mclub.com/mc-events/beer-more-tasting/
METHOD:PUBLISH
END:VEVENT
END:VCALENDAR