BEGIN:VCALENDAR
VERSION:2.0
PRODID:spatie/icalendar-generator
DESCRIPTION:Events from 3M Club of St. Paul
X-WR-CALDESC:Events from 3M Club of St. Paul
REFRESH-INTERVAL;VALUE=DURATION:PT1440M
X-PUBLISHED-TTL:PT1440M
BEGIN:VTIMEZONE
TZID:Etc/GMT+0
BEGIN:STANDARD
DTSTART:20250316T163000Z
TZOFFSETFROM:+0000
TZOFFSETTO:+0000
END:STANDARD
END:VTIMEZONE
BEGIN:VTIMEZONE
TZID:UTC
BEGIN:STANDARD
DTSTART:20250727T233703Z
TZOFFSETFROM:+0000
TZOFFSETTO:+0000
END:STANDARD
END:VTIMEZONE
BEGIN:VEVENT
UID:45-38
DTSTAMP:20260423T233703Z
SUMMARY:3M Employee Club Children’s Holiday Party
LOCATION:
ORGANIZER;CN=01642282:MAILTO:kwouts@mmm.com
DTSTART;TZID=Etc/GMT+0:20251211T163000
DTEND;TZID=Etc/GMT+0:20251211T183000
X-ALT-DESC;FMTTYPE=TEXT/HTML:
CATEGORIES:3M Club Hosted Events
URL;VALUE=URI:https://stpaul.3mclub.com/mc-events/3m-employee-club-children
 s-holiday-party/
METHOD:PUBLISH
END:VEVENT
END:VCALENDAR