BEGIN:VCALENDAR
VERSION:2.0
PRODID:spatie/icalendar-generator
DESCRIPTION:Events from 3M Club of St. Paul
X-WR-CALDESC:Events from 3M Club of St. Paul
REFRESH-INTERVAL;VALUE=DURATION:PT1440M
X-PUBLISHED-TTL:PT1440M
BEGIN:VTIMEZONE
TZID:Etc/GMT+0
BEGIN:STANDARD
DTSTART:20250331T000000Z
TZOFFSETFROM:+0000
TZOFFSETTO:+0000
END:STANDARD
END:VTIMEZONE
BEGIN:VTIMEZONE
TZID:UTC
BEGIN:STANDARD
DTSTART:20250727T214745Z
TZOFFSETFROM:+0000
TZOFFSETTO:+0000
END:STANDARD
END:VTIMEZONE
BEGIN:VEVENT
UID:67-39
DTSTAMP:20260423T214745Z
SUMMARY:World Junior Hockey Championship
LOCATION:
ORGANIZER;CN=01642282:MAILTO:kwouts@mmm.com
DTSTART;TZID=Etc/GMT+0;VALUE=DATE:20251226
DTEND;TZID=Etc/GMT+0;VALUE=DATE:20251227
X-ALT-DESC;FMTTYPE=TEXT/HTML:More Info to Come in September
CATEGORIES:Volunteer
URL;VALUE=URI:https://stpaul.3mclub.com/mc-events/world-junior-hockey-champ
 ionship/
METHOD:PUBLISH
END:VEVENT
END:VCALENDAR