BEGIN:VCALENDAR
VERSION:2.0
PRODID:spatie/icalendar-generator
DESCRIPTION:Events from 3M Club of St. Paul
X-WR-CALDESC:Events from 3M Club of St. Paul
REFRESH-INTERVAL;VALUE=DURATION:PT1440M
X-PUBLISHED-TTL:PT1440M
BEGIN:VTIMEZONE
TZID:Etc/GMT+0
BEGIN:STANDARD
DTSTART:20250104T180000Z
TZOFFSETFROM:+0000
TZOFFSETTO:+0000
END:STANDARD
END:VTIMEZONE
BEGIN:VTIMEZONE
TZID:UTC
BEGIN:STANDARD
DTSTART:20250727T200621Z
TZOFFSETFROM:+0000
TZOFFSETTO:+0000
END:STANDARD
END:VTIMEZONE
BEGIN:VEVENT
UID:68-40
DTSTAMP:20260423T200621Z
SUMMARY:Pickleball League
LOCATION:Smash Hub 895 Hale Ave N  Oakdale MN 55128
ORGANIZER;CN=01876041:MAILTO:carbuckle@mmm.com
RRULE:FREQ=WEEKLY;UNTIL=20251106T000000Z
DTSTART;TZID=Etc/GMT+0:20251001T180000
DTEND;TZID=Etc/GMT+0:20251001T210000
X-ALT-DESC;FMTTYPE=TEXT/HTML:
CATEGORIES:Sports Leagues
URL;VALUE=URI:https://stpaul.3mclub.com/mc-events/pickleball-league/?mc_id=
 68
METHOD:PUBLISH
END:VEVENT
END:VCALENDAR