BEGIN:VCALENDAR
VERSION:2.0
PRODID:spatie/icalendar-generator
DESCRIPTION:Events from 3M Club of St. Paul
X-WR-CALDESC:Events from 3M Club of St. Paul
REFRESH-INTERVAL;VALUE=DURATION:PT1440M
X-PUBLISHED-TTL:PT1440M
BEGIN:VTIMEZONE
TZID:Etc/GMT+0
BEGIN:STANDARD
DTSTART:20250328T180000Z
TZOFFSETFROM:+0000
TZOFFSETTO:+0000
END:STANDARD
END:VTIMEZONE
BEGIN:VTIMEZONE
TZID:UTC
BEGIN:STANDARD
DTSTART:20250727T231426Z
TZOFFSETFROM:+0000
TZOFFSETTO:+0000
END:STANDARD
END:VTIMEZONE
BEGIN:VEVENT
UID:80-41
DTSTAMP:20260423T231426Z
SUMMARY:Volleyball League
LOCATION:Edgerton Elementary 1929 Edgerton St  Maplewood MN 55117
ORGANIZER;CN=01876041:MAILTO:carbuckle@mmm.com
RRULE:FREQ=WEEKLY;UNTIL=20260325T000000Z
DTSTART;TZID=Etc/GMT+0:20251223T180000
DTEND;TZID=Etc/GMT+0:20251223T210000
X-ALT-DESC;FMTTYPE=TEXT/HTML:
CATEGORIES:Sports Leagues
URL;VALUE=URI:https://stpaul.3mclub.com/mc-events/volleyball-league/?mc_id=
 80
METHOD:PUBLISH
END:VEVENT
END:VCALENDAR