BEGIN:VCALENDAR
VERSION:2.0
PRODID:spatie/icalendar-generator
DESCRIPTION:Events from 3M Club of St. Paul
X-WR-CALDESC:Events from 3M Club of St. Paul
REFRESH-INTERVAL;VALUE=DURATION:PT1440M
X-PUBLISHED-TTL:PT1440M
BEGIN:VTIMEZONE
TZID:Etc/GMT+0
BEGIN:STANDARD
DTSTART:20250908T190000Z
TZOFFSETFROM:+0000
TZOFFSETTO:+0000
END:STANDARD
END:VTIMEZONE
BEGIN:VTIMEZONE
TZID:UTC
BEGIN:STANDARD
DTSTART:20250727T184644Z
TZOFFSETFROM:+0000
TZOFFSETTO:+0000
END:STANDARD
END:VTIMEZONE
BEGIN:VEVENT
UID:108-44
DTSTAMP:20260423T184644Z
SUMMARY:3M Club Saints Star Wars Group Night (SOLD OUT)
LOCATION:CHS Field 360 North Broadway Street  Saint Paul MN 55101
ORGANIZER;CN=01876054:MAILTO:gfriedlein@mmm.com
DTSTART;TZID=Etc/GMT+0:20260605T190000
DTEND;TZID=Etc/GMT+0:20260605T200000
X-ALT-DESC;FMTTYPE=TEXT/HTML:Enjoy the much-anticipated Star Wars night at 
 CHS Field with your family and 3M coworkers! We will have fun Star Wars/Sa
 ints themed giveaways\, and every paid ticket will receive $20 in Saints B
 ucks! And don’t forget the post-game fireworks. Don’t miss this out-of
 -this-galaxy night!
CATEGORIES:3M Club Hosted Events
URL;VALUE=URI:https://stpaul.3mclub.com/mc-events/3m-club-saints-star-wars-
 group-night-sold-out/
METHOD:PUBLISH
END:VEVENT
END:VCALENDAR