BEGIN:VCALENDAR
VERSION:2.0
PRODID:spatie/icalendar-generator
DESCRIPTION:Events from 3M Club of St. Paul
X-WR-CALDESC:Events from 3M Club of St. Paul
REFRESH-INTERVAL;VALUE=DURATION:PT1440M
X-PUBLISHED-TTL:PT1440M
BEGIN:VTIMEZONE
TZID:Etc/GMT+0
BEGIN:STANDARD
DTSTART:20250922T080000Z
TZOFFSETFROM:+0000
TZOFFSETTO:+0000
END:STANDARD
END:VTIMEZONE
BEGIN:VTIMEZONE
TZID:UTC
BEGIN:STANDARD
DTSTART:20250727T203254Z
TZOFFSETFROM:+0000
TZOFFSETTO:+0000
END:STANDARD
END:VTIMEZONE
BEGIN:VEVENT
UID:109-45
DTSTAMP:20260423T203254Z
SUMMARY:3M Club Golf Tournament (SOLD OUT)
LOCATION:Oneka Ridge Golf Course 5610 120th Street North  White Bear Lake M
 N 55110
ORGANIZER;CN=01876054:MAILTO:gfriedlein@mmm.com
DTSTART;TZID=Etc/GMT+0:20260619T080000
DTEND;TZID=Etc/GMT+0:20260619T090000
X-ALT-DESC;FMTTYPE=TEXT/HTML:Enjoy a great day of golf\, prizes and fun at 
 Oneka Ridge Golf Course Friday\, June 19\, 2026 8:00am shotgun Oneka Ridge
  Golf Course in White Bear Lake This will be a 4-person scramble/best ball
  tournament with prizes for the winning team. Each 3M Club member can sign
  up yourself and 3 other non-3Mers to&amp;hellip\;
CATEGORIES:3M Club Hosted Events
URL;VALUE=URI:https://stpaul.3mclub.com/mc-events/3m-club-golf-tournament-s
 old-out/
METHOD:PUBLISH
END:VEVENT
END:VCALENDAR