BEGIN:VCALENDAR
VERSION:2.0
PRODID:spatie/icalendar-generator
DESCRIPTION:Events from 3M Club of St. Paul
X-WR-CALDESC:Events from 3M Club of St. Paul
REFRESH-INTERVAL;VALUE=DURATION:PT1440M
X-PUBLISHED-TTL:PT1440M
BEGIN:VTIMEZONE
TZID:Etc/GMT+0
BEGIN:STANDARD
DTSTART:20231128T080000Z
TZOFFSETFROM:+0000
TZOFFSETTO:+0000
END:STANDARD
END:VTIMEZONE
BEGIN:VTIMEZONE
TZID:UTC
BEGIN:STANDARD
DTSTART:20250728T151339Z
TZOFFSETFROM:+0000
TZOFFSETTO:+0000
END:STANDARD
END:VTIMEZONE
BEGIN:VEVENT
UID:14-14
DTSTAMP:20260424T151339Z
SUMMARY:Woodbury Days Car Show
LOCATION:Ojibway Park\, Woodbury MN 2695 Ojibway Dr  Saint Paul MN 55125
ORGANIZER;CN=rseditor:MAILTO:rmspetz@mmm.com
DTSTART;TZID=Etc/GMT+0:20240824T080000
DTEND;TZID=Etc/GMT+0:20240824T140000
X-ALT-DESC;FMTTYPE=TEXT/HTML:August 24th\, 2024 Gate Opens: 8am (closes11:3
 0 am) Show time 8am\,-2pm Rain or shine $10 per vehicle\, Spectators free 
 Drawings for door prizes No Pre-registration Dash Plaques to the first 150
  registrants Awards &amp;amp\; Trophies at 1:30 Ojibway Park\, Woodbury\, Minn
 esota The 3M Club Classic Cruisers show is a featured event of the Woodbur
 y Days&amp;hellip\;
CATEGORIES:Activity Clubs
URL;VALUE=URI:https://stpaul.3mclub.com/mc-events/woodbury-days-car-show/
METHOD:PUBLISH
END:VEVENT
END:VCALENDAR