BEGIN:VCALENDAR
VERSION:2.0
PRODID:spatie/icalendar-generator
DESCRIPTION:Events from 3M Club of St. Paul
X-WR-CALDESC:Events from 3M Club of St. Paul
REFRESH-INTERVAL;VALUE=DURATION:PT1440M
X-PUBLISHED-TTL:PT1440M
BEGIN:VTIMEZONE
TZID:Etc/GMT+0
BEGIN:STANDARD
DTSTART:20240317T160000Z
TZOFFSETFROM:+0000
TZOFFSETTO:+0000
END:STANDARD
END:VTIMEZONE
BEGIN:VTIMEZONE
TZID:UTC
BEGIN:STANDARD
DTSTART:20250728T064214Z
TZOFFSETFROM:+0000
TZOFFSETTO:+0000
END:STANDARD
END:VTIMEZONE
BEGIN:VEVENT
UID:25-26
DTSTAMP:20260424T064214Z
SUMMARY:3M Club Holiday Party
LOCATION:
ORGANIZER;CN=lnjohnson:MAILTO:lnjohnson@mmm.com
DTSTART;TZID=Etc/GMT+0:20241212T160000
DTEND;TZID=Etc/GMT+0:20241212T193000
X-ALT-DESC;FMTTYPE=TEXT/HTML:Join us for a fun night of Santa\, coloring co
 ntest\, holiday movie\, games\, door prizes and a chance to win 4 Wild tic
 kets in the 3M Club suite! Thursday\, Dec 12\, 2024 3M Center - 224 Common
 s (new location) $8 per child We will have 2 time slots – 4:00-5:30pm an
 d 6:00-7:30pm (we cannot guarantee&amp;hellip\;
CATEGORIES:General
URL;VALUE=URI:https://stpaul.3mclub.com/mc-events/3m-club-holiday-party-2/
METHOD:PUBLISH
END:VEVENT
END:VCALENDAR