BEGIN:VCALENDAR
VERSION:2.0
PRODID:spatie/icalendar-generator
DESCRIPTION:Events from 3M Club of St. Paul
X-WR-CALDESC:Events from 3M Club of St. Paul
REFRESH-INTERVAL;VALUE=DURATION:PT1440M
X-PUBLISHED-TTL:PT1440M
BEGIN:VTIMEZONE
TZID:Etc/GMT+0
BEGIN:STANDARD
DTSTART:20240224T120000Z
TZOFFSETFROM:+0000
TZOFFSETTO:+0000
END:STANDARD
END:VTIMEZONE
BEGIN:VTIMEZONE
TZID:UTC
BEGIN:STANDARD
DTSTART:20250728T075941Z
TZOFFSETFROM:+0000
TZOFFSETTO:+0000
END:STANDARD
END:VTIMEZONE
BEGIN:VEVENT
UID:26-27
DTSTAMP:20260424T075941Z
SUMMARY:November Homebrew Club Meeting
LOCATION:3M Center Building 223 4th floor Room 4C49
ORGANIZER;CN=01183866:MAILTO:ljdardine@mmm.com
DTSTART;TZID=Etc/GMT+0:20241120T120000
DTEND;TZID=Etc/GMT+0:20241120T130000
X-ALT-DESC;FMTTYPE=TEXT/HTML:The club received a pale malt and a dark malt 
 sensory kit from Briess malting. In our next meeting we'll delve into the 
 flavor and brewing characteristics of pale malts. We will be tasting sampl
 es of the following malts\, Brewer's malt\, Synergy Select Pilsen\, Pilsen
 \, white wheat\, Goldenpils Vienna\, Pale Ale\, Ashburne\, Bonlander Munic
 h 10L\,&amp;hellip\;
CATEGORIES:Activity Clubs
URL;VALUE=URI:https://stpaul.3mclub.com/mc-events/november-homebrew-club-me
 eting/
METHOD:PUBLISH
END:VEVENT
END:VCALENDAR