BEGIN:VCALENDAR
VERSION:2.0
PRODID:spatie/icalendar-generator
DESCRIPTION:Events from 3M Club of St. Paul
X-WR-CALDESC:Events from 3M Club of St. Paul
REFRESH-INTERVAL;VALUE=DURATION:PT1440M
X-PUBLISHED-TTL:PT1440M
BEGIN:VTIMEZONE
TZID:Etc/GMT+0
BEGIN:STANDARD
DTSTART:20240404T180000Z
TZOFFSETFROM:+0000
TZOFFSETTO:+0000
END:STANDARD
END:VTIMEZONE
BEGIN:VTIMEZONE
TZID:UTC
BEGIN:STANDARD
DTSTART:20250728T052531Z
TZOFFSETFROM:+0000
TZOFFSETTO:+0000
END:STANDARD
END:VTIMEZONE
BEGIN:VEVENT
UID:27-28
DTSTAMP:20260424T052531Z
SUMMARY:Minnesota Children's Museum New Year's Event
LOCATION:
ORGANIZER;CN=Kristie:MAILTO:kgraber1@mmm.com
DTSTART;TZID=Etc/GMT+0:20241230T180000
DTEND;TZID=Etc/GMT+0:20241230T210000
X-ALT-DESC;FMTTYPE=TEXT/HTML:The Minnesota Children’s Museum is offering 
 a special ticket discount for their New Year's Event on December 30th\, 20
 24\, from 6 – 9 pm. Enjoy a $7 discount per ticket if purchased by Decem
 ber 15th\; after that\, a $5 discount will apply until night of the event.
  Additionally\, don't forget to request your free ramp&amp;hellip\;
CATEGORIES:General
URL;VALUE=URI:https://stpaul.3mclub.com/mc-events/minnesota-childrens-museu
 m-new-years-event/
METHOD:PUBLISH
END:VEVENT
END:VCALENDAR