BEGIN:VCALENDAR
VERSION:2.0
PRODID:spatie/icalendar-generator
DESCRIPTION:Events from 3M Club of St. Paul
X-WR-CALDESC:Events from 3M Club of St. Paul
REFRESH-INTERVAL;VALUE=DURATION:PT1440M
X-PUBLISHED-TTL:PT1440M
BEGIN:VTIMEZONE
TZID:Etc/GMT+0
BEGIN:STANDARD
DTSTART:20240710T103000Z
TZOFFSETFROM:+0000
TZOFFSETTO:+0000
END:STANDARD
END:VTIMEZONE
BEGIN:VTIMEZONE
TZID:UTC
BEGIN:STANDARD
DTSTART:20250728T035920Z
TZOFFSETFROM:+0000
TZOFFSETTO:+0000
END:STANDARD
END:VTIMEZONE
BEGIN:VEVENT
UID:29-29
DTSTAMP:20260424T035920Z
SUMMARY:CANCELLED - 3M Club Movie Event
LOCATION:
ORGANIZER;CN=lnjohnson:MAILTO:lnjohnson@mmm.com
DTSTART;TZID=Etc/GMT+0:20250406T103000
DTEND;TZID=Etc/GMT+0:20250406T133000
X-ALT-DESC;FMTTYPE=TEXT/HTML:Sunday\, April 6\, 2025 10:30am check-in for 1
 1:00am movie Woodbury 10 Theatre (1470 Queens Drive\, Woodbury 55125) Join
  us for the highly anticipated Minecraft the Movie in a private theatre!
  Cost of $16 per person includes movie admission and either a Kid’s Tray
  or a medium popcorn/medium soda combo for adults Payment through Square p
 ayment link Please&amp;hellip\;
CATEGORIES:3M Club Hosted Events
URL;VALUE=URI:https://stpaul.3mclub.com/mc-events/cancelled-3m-club-movie-e
 vent/
METHOD:PUBLISH
END:VEVENT
END:VCALENDAR