BEGIN:VCALENDAR
VERSION:2.0
PRODID:spatie/icalendar-generator
DESCRIPTION:Events from 3M Club of St. Paul
X-WR-CALDESC:Events from 3M Club of St. Paul
REFRESH-INTERVAL;VALUE=DURATION:PT1440M
X-PUBLISHED-TTL:PT1440M
BEGIN:VTIMEZONE
TZID:Etc/GMT+0
BEGIN:STANDARD
DTSTART:20240919T090000Z
TZOFFSETFROM:+0000
TZOFFSETTO:+0000
END:STANDARD
END:VTIMEZONE
BEGIN:VTIMEZONE
TZID:UTC
BEGIN:STANDARD
DTSTART:20250728T022731Z
TZOFFSETFROM:+0000
TZOFFSETTO:+0000
END:STANDARD
END:VTIMEZONE
BEGIN:VEVENT
UID:31-30
DTSTAMP:20260424T022731Z
SUMMARY:3M Club Golf Tournament
LOCATION:
ORGANIZER;CN=lnjohnson:MAILTO:lnjohnson@mmm.com
DTSTART;TZID=Etc/GMT+0:20250616T090000
DTEND;TZID=Etc/GMT+0:20250616T150000
X-ALT-DESC;FMTTYPE=TEXT/HTML:Join us for the 3M Club Golf Tournament! Enjoy
  a great day of golf\, prizes and fun at the beautiful Tournament Players 
 Club Monday\, June 16\, 2025 9:00am shotgun Tournament Players Club in Bla
 ine This will be a 4-person scramble/best ball tournament with prizes for 
 the winning team.  Each 3M Club member can sign up yourself&amp;hellip\;
CATEGORIES:General
URL;VALUE=URI:https://stpaul.3mclub.com/mc-events/3m-club-golf-tournament-2
 /
METHOD:PUBLISH
END:VEVENT
END:VCALENDAR