BEGIN:VCALENDAR
VERSION:2.0
PRODID:spatie/icalendar-generator
DESCRIPTION:Events from 3M Club of St. Paul
X-WR-CALDESC:Events from 3M Club of St. Paul
REFRESH-INTERVAL;VALUE=DURATION:PT1440M
X-PUBLISHED-TTL:PT1440M
BEGIN:VTIMEZONE
TZID:Etc/GMT+0
BEGIN:STANDARD
DTSTART:20241214T130000Z
TZOFFSETFROM:+0000
TZOFFSETTO:+0000
END:STANDARD
END:VTIMEZONE
BEGIN:VTIMEZONE
TZID:UTC
BEGIN:STANDARD
DTSTART:20250727T232249Z
TZOFFSETFROM:+0000
TZOFFSETTO:+0000
END:STANDARD
END:VTIMEZONE
BEGIN:VEVENT
UID:35-33
DTSTAMP:20260423T232249Z
SUMMARY:3M Club + Neon Ice Cream Social
LOCATION:3M Center Quad Area
ORGANIZER;CN=01089626:MAILTO:aedaugherty@gmail.com
DTSTART;TZID=Etc/GMT+0:20250910T130000
DTEND;TZID=Etc/GMT+0:20250910T150000
X-ALT-DESC;FMTTYPE=TEXT/HTML:🍦 3M Club + NEON Ice Cream Social 🍦 Date
 : Wednesday\, September 10 Time: 1-3pm Location: Outdoor Quad Area (Connec
 tions room if inclement weather) Come cool off with us and enjoy a variety
  of delicious ice cream treats! Meet fellow members\, relax\, and make the
  most of the fall weather. We will also have special&amp;hellip\;
CATEGORIES:General
URL;VALUE=URI:https://stpaul.3mclub.com/mc-events/3m-club-neon-ice-cream-so
 cial/
METHOD:PUBLISH
END:VEVENT
END:VCALENDAR