BEGIN:VCALENDAR
VERSION:2.0
PRODID:spatie/icalendar-generator
DESCRIPTION:Events from 3M Club of St. Paul
X-WR-CALDESC:Events from 3M Club of St. Paul
REFRESH-INTERVAL;VALUE=DURATION:PT1440M
X-PUBLISHED-TTL:PT1440M
BEGIN:VTIMEZONE
TZID:Etc/GMT+0
BEGIN:STANDARD
DTSTART:20250128T180000Z
TZOFFSETFROM:+0000
TZOFFSETTO:+0000
END:STANDARD
END:VTIMEZONE
BEGIN:VTIMEZONE
TZID:UTC
BEGIN:STANDARD
DTSTART:20250727T213947Z
TZOFFSETFROM:+0000
TZOFFSETTO:+0000
END:STANDARD
END:VTIMEZONE
BEGIN:VEVENT
UID:40-35
DTSTAMP:20260423T213947Z
SUMMARY:Minnesota Children’s Museum Halloween Party Event
LOCATION:
ORGANIZER;CN=01642282:MAILTO:kwouts@mmm.com
DTSTART;TZID=Etc/GMT+0:20251025T180000
DTEND;TZID=Etc/GMT+0:20251025T210000
X-ALT-DESC;FMTTYPE=TEXT/HTML:Put on your best costume and join us for a nig
 ht of kid-friendly Halloween fun including trick-or-treating\, a dance par
 ty with live DJ\, activities\, crafts\, games and more! Plus\, the entire 
 museum will be open for play during the event. $5 off  General Admission:
  $25 $20 Members: $10 $5  Use code 3MCLUB to receive discount Price
  includes museum admission\, a trick-or-treat&amp;hellip\;
CATEGORIES:General
URL;VALUE=URI:https://stpaul.3mclub.com/mc-events/minnesota-childrens-museu
 m-halloween-party-event/
METHOD:PUBLISH
END:VEVENT
END:VCALENDAR