BEGIN:VCALENDAR
VERSION:2.0
PRODID:spatie/icalendar-generator
DESCRIPTION:Events from 3M Club of St. Paul
X-WR-CALDESC:Events from 3M Club of St. Paul
REFRESH-INTERVAL;VALUE=DURATION:PT1440M
X-PUBLISHED-TTL:PT1440M
BEGIN:VTIMEZONE
TZID:Etc/GMT+0
BEGIN:STANDARD
DTSTART:20241224T000000Z
TZOFFSETFROM:+0000
TZOFFSETTO:+0000
END:STANDARD
END:VTIMEZONE
BEGIN:VTIMEZONE
TZID:UTC
BEGIN:STANDARD
DTSTART:20250727T232737Z
TZOFFSETFROM:+0000
TZOFFSETTO:+0000
END:STANDARD
END:VTIMEZONE
BEGIN:VEVENT
UID:43-36
DTSTAMP:20260423T232737Z
SUMMARY:Farm Aid 40
LOCATION:
ORGANIZER;CN=01642282:MAILTO:kwouts@mmm.com
DTSTART;TZID=Etc/GMT+0;VALUE=DATE:20250920
DTEND;TZID=Etc/GMT+0;VALUE=DATE:20250921
X-ALT-DESC;FMTTYPE=TEXT/HTML:🚜🎶FARM AID 40 - VOLUNTEER OPPORTUNITY
 🎶🚜 Farm Aid 40 is coming to Minnesota to rock for family farmers for
  the first time on Saturday\, September 20\, at Huntington Bank Stadium in
  Minneapolis. 3M Club has partnered with Farm Aid to obtain multiple volun
 teer opportunities for our club members. There is a $10 cost to help&amp;helli
 p\;
CATEGORIES:Volunteer
URL;VALUE=URI:https://stpaul.3mclub.com/mc-events/farm-aid-40/
METHOD:PUBLISH
END:VEVENT
END:VCALENDAR