BEGIN:VCALENDAR
VERSION:2.0
PRODID:spatie/icalendar-generator
DESCRIPTION:Events from 3M Club of St. Paul
X-WR-CALDESC:Events from 3M Club of St. Paul
REFRESH-INTERVAL;VALUE=DURATION:PT1440M
X-PUBLISHED-TTL:PT1440M
BEGIN:VTIMEZONE
TZID:Etc/GMT+0
BEGIN:STANDARD
DTSTART:20250128T110000Z
TZOFFSETFROM:+0000
TZOFFSETTO:+0000
END:STANDARD
END:VTIMEZONE
BEGIN:VTIMEZONE
TZID:UTC
BEGIN:STANDARD
DTSTART:20250727T232514Z
TZOFFSETFROM:+0000
TZOFFSETTO:+0000
END:STANDARD
END:VTIMEZONE
BEGIN:VEVENT
UID:44-37
DTSTAMP:20260423T232514Z
SUMMARY:Pinehaven Farm Fall Family Event - SOLD OUT
LOCATION:
ORGANIZER;CN=01642282:MAILTO:kwouts@mmm.com
DTSTART;TZID=Etc/GMT+0:20251025T110000
DTEND;TZID=Etc/GMT+0:20251025T180000
X-ALT-DESC;FMTTYPE=TEXT/HTML:Pinehaven Farm Fall Family Event  Enjoy a gre
 at fall day at Pinehaven Farm with your family and fellow 3Mers! When: Sa
 turday\, October 25 Time: 11am-6pm Where: Pinehaven Farm\, 28186 Kettle
  River Blvd\, Wyoming\, MN 55092 Pinehaven Farm is a full-on fall wonderla
 nd! You and your family can enjoy: Corn pit\, Straw Bale Mountain\, giant 
 super slides\, zipline\, apple blasters\,&amp;hellip\;
CATEGORIES:3M Club Hosted Events
URL;VALUE=URI:https://stpaul.3mclub.com/mc-events/pinehaven-farm-fall-famil
 y-event-sold-out/
METHOD:PUBLISH
END:VEVENT
END:VCALENDAR